BEGIN:VCALENDAR
VERSION:2.0
PRODID:-//Noxon Cabinets Shoreline Coalition - ECPv6.15.20//NONSGML v1.0//EN
CALSCALE:GREGORIAN
METHOD:PUBLISH
X-ORIGINAL-URL:https://ncshorelines.com
X-WR-CALDESC:Events for Noxon Cabinets Shoreline Coalition
REFRESH-INTERVAL;VALUE=DURATION:PT1H
X-Robots-Tag:noindex
X-PUBLISHED-TTL:PT1H
BEGIN:VTIMEZONE
TZID:UTC
BEGIN:STANDARD
TZOFFSETFROM:+0000
TZOFFSETTO:+0000
TZNAME:UTC
DTSTART:20270101T000000
END:STANDARD
END:VTIMEZONE
BEGIN:VEVENT
DTSTART;VALUE=DATE:20281108
DTEND;VALUE=DATE:20281109
DTSTAMP:20260420T160243
CREATED:20240116T151124Z
LAST-MODIFIED:20240116T151124Z
UID:10000066-1857254400-1857340799@ncshorelines.com
SUMMARY:All Cabinet Ridge Riders Meeting
DESCRIPTION:
URL:https://ncshorelines.com/event/all-cabinet-ridge-riders-meeting/2028-11-08/
END:VEVENT
BEGIN:VEVENT
DTSTART;VALUE=DATE:20281213
DTEND;VALUE=DATE:20281214
DTSTAMP:20260420T160243
CREATED:20240116T151124Z
LAST-MODIFIED:20240116T151124Z
UID:10000067-1860278400-1860364799@ncshorelines.com
SUMMARY:All Cabinet Ridge Riders Meeting
DESCRIPTION:
URL:https://ncshorelines.com/event/all-cabinet-ridge-riders-meeting/2028-12-13/
END:VEVENT
BEGIN:VEVENT
DTSTART;VALUE=DATE:20290110
DTEND;VALUE=DATE:20290111
DTSTAMP:20260420T160243
CREATED:20240116T151124Z
LAST-MODIFIED:20240116T151124Z
UID:10000068-1862697600-1862783999@ncshorelines.com
SUMMARY:All Cabinet Ridge Riders Meeting
DESCRIPTION:
URL:https://ncshorelines.com/event/all-cabinet-ridge-riders-meeting/2029-01-10/
END:VEVENT
END:VCALENDAR